BEGIN:VCALENDAR
PRODID:NingEventWidget-v1
VERSION:2.0
METHOD:PUBLISH
BEGIN:VEVENT
UID:4851125:Event:103344
DTSTAMP:20260423T223426Z
SUMMARY:Impromptu Paint-out this wed in the Botanic Gardens
DESCRIPTION:A return visit to the Botanic Gardens, Glasnevin\n\nFor mo
 re information visit https://pleineire.ning.com/events/impromptu-paint
 -out-this-wed-in-the-botanic-gardens
DTSTART:20121205T103000Z
DTEND:20121205T143000Z
CATEGORIES:paint-out
LOCATION:Coffee shop near the entrance
WEBSITE:
URL:
CONTACT:087 6891495
ORGANIZER;CN="Norah Blount":https://pleineire.ning.com/profile/NorahBl
 ount
ATTACH;FMTTYPE="image/jpeg":http://storage.ning.com/topology/rest/1.0/
 file/get/2592355001?profile=original
ATTENDEE;ROLE=REQ-PARTICIPANT;PARTSTAT=ACCEPTED;RSVP=TRUE;CN="Svetlana
  Starikova":https://pleineire.ning.com/profile/SvetlanaStarikova
ATTENDEE;ROLE=REQ-PARTICIPANT;PARTSTAT=ACCEPTED;RSVP=TRUE;CN="Frank Ha
 llinan Flood":https://pleineire.ning.com/profile/FrankHalliananFlood
ATTENDEE;ROLE=REQ-PARTICIPANT;PARTSTAT=ACCEPTED;RSVP=TRUE;CN="Terence 
 Gillespie":https://pleineire.ning.com/profile/TerenceGillespie
ATTENDEE;ROLE=REQ-PARTICIPANT;PARTSTAT=ACCEPTED;RSVP=TRUE;CN="Caroline
  Carroll":https://pleineire.ning.com/profile/CarolineCarroll
ATTENDEE;ROLE=REQ-PARTICIPANT;PARTSTAT=ACCEPTED;RSVP=TRUE;CN="Norah Bl
 ount":https://pleineire.ning.com/profile/NorahBlount
END:VEVENT
END:VCALENDAR
