BEGIN:VCALENDAR
PRODID:NingEventWidget-v1
VERSION:2.0
METHOD:PUBLISH
BEGIN:VEVENT
UID:4851125:Event:210115
DTSTAMP:20260422T222938Z
SUMMARY:Gaeltacht Thiar Tir Chonaill
DESCRIPTION:Come join me in spectacular Magheroarty on Saturday. Great
  views of Tory and Inisbofinne. Big skies, sea & sand dunes,Islands, m
 ountains, boats, something for everyone.\nMeeting up at the Cafe Cois 
 Farraige on the pier at 11 (beside the Tory Ferry booking office) and 
 from there to various painting spots. Such a lot to choose from.\n\nFo
 r more information visit https://pleineire.ning.com/events/gaeltacht-t
 hiar-tir-chonaill
DTSTART:20190608T110000Z
DTEND:20190608T150000Z
CATEGORIES:paint-out
LOCATION:Cafe cois farraige,
WEBSITE:
URL:
CONTACT:0876785902
ORGANIZER;CN="Mary Toland Comiskey":https://pleineire.ning.com/profile
 /MaryTolandComiskey
ATTACH;FMTTYPE="image/jpeg":https://storage.ning.com/topology/rest/1.0
 /file/get/2755535599?profile=original
ATTENDEE;ROLE=REQ-PARTICIPANT;PARTSTAT=ACCEPTED;RSVP=TRUE;CN="Nora Duf
 fy, Thorr":https://pleineire.ning.com/profile/NoraDuffy
ATTENDEE;ROLE=REQ-PARTICIPANT;PARTSTAT=ACCEPTED;RSVP=TRUE;CN="Mary Tol
 and Comiskey":https://pleineire.ning.com/profile/MaryTolandComiskey
END:VEVENT
END:VCALENDAR
