BEGIN:VCALENDAR
PRODID:NingEventWidget-v1
VERSION:2.0
METHOD:PUBLISH
BEGIN:VEVENT
UID:4851125:Event:213610
DTSTAMP:20260424T084223Z
SUMMARY:Boyne Valley Paintout Phoenix Park 14.09.2019
DESCRIPTION:Paintout this week is in the Phoenix Park. Biodiversity Fe
 stival and Honey Show takes place on Saturday and Sunday with lots of 
 events and guided tours.\n\nWe meet in the Visitor Centre Cafe and ret
 urn about  3pm as usual.\nLarge numbers are expected and overflow car
  parks will be signposted.   Make sure you have no valuables in your
  car.\n\n\nFor more information visit https://pleineire.ning.com/event
 s/boyne-valley-paintout-phoenix-park-14-09-2019
DTSTART:20190914T110000Z
DTEND:20190914T150000Z
CATEGORIES:paint-out
LOCATION:Visitor Centre Cafe
WEBSITE:
URL:
CONTACT:0868050177
ORGANIZER;CN="Sally Downey":https://pleineire.ning.com/profile/sallydo
 wney
ATTACH;FMTTYPE="image/jpeg":https://storage.ning.com/topology/rest/1.0
 /file/get/3553408841?profile=original
ATTENDEE;ROLE=REQ-PARTICIPANT;PARTSTAT=ACCEPTED;RSVP=TRUE;CN="anna d h
 urley":https://pleineire.ning.com/profile/annadhurley
ATTENDEE;ROLE=REQ-PARTICIPANT;PARTSTAT=ACCEPTED;RSVP=TRUE;CN="Caroline
  Carroll":https://pleineire.ning.com/profile/CarolineCarroll
ATTENDEE;ROLE=REQ-PARTICIPANT;PARTSTAT=ACCEPTED;RSVP=TRUE;CN="Norah Bl
 ount":https://pleineire.ning.com/profile/NorahBlount
ATTENDEE;ROLE=REQ-PARTICIPANT;PARTSTAT=ACCEPTED;RSVP=TRUE;CN="Kyrle Ca
 hill":https://pleineire.ning.com/profile/KyrleCahill
ATTENDEE;ROLE=REQ-PARTICIPANT;PARTSTAT=ACCEPTED;RSVP=TRUE;CN="Sally Do
 wney":https://pleineire.ning.com/profile/sallydowney
ATTENDEE;ROLE=REQ-PARTICIPANT;PARTSTAT=TENTATIVE;RSVP=TRUE;CN="Valerie
  Syms Martin":https://pleineire.ning.com/profile/ValerieSymsMartin
END:VEVENT
END:VCALENDAR
